BEGIN:VCALENDAR
PRODID:-//kirchenweb.ch gmbh//veranstaltungsausgabe v2.0//DE
VERSION:2.0
METHOD:PUBLISH
BEGIN:VEVENT
DTSTART:20241121T183000Z
DTEND:20241121T210000Z
LOCATION:Davidkirche Flamatt\, Freiburgstrasse 12\, 3175 Flamatt
TRANSP:OPAQUE
SEQUENCE:0
UID:5544-veranstaltung@wfue.ch
DTSTAMP:20241015T070056Z
DESCRIPTION:Kontakt: Pfr. Christoph Gasser\n\nWeitere Infos:
  https://www.wfue.ch/veranstaltung/5544
SUMMARY:Geschichtenerzählung mit Trudi Tschannen
PRIORITY:5
X-MICROSOFT-CDO-IMPORTANCE:1
CLASS:PUBLIC
END:VEVENT
END:VCALENDAR
