BEGIN:VCALENDAR
PRODID:-//kirchenweb.ch gmbh//veranstaltungsausgabe v2.0//DE
VERSION:2.0
METHOD:PUBLISH
BEGIN:VEVENT
DTSTART:20250112T083000Z
DTEND:20250112T093000Z
LOCATION:Davidkirche Flamatt\, Freiburgstrasse 12\, 3175 Flamatt
TRANSP:OPAQUE
SEQUENCE:0
UID:5593-veranstaltung@wfue.ch
DTSTAMP:20241106T102100Z
DESCRIPTION:Wir hängen die Tauftauben ab\, die nun während ca. zwei
  Jahren in unserer Kirche waren. \nMusik: Ursula Burkhardt\, Orgel.
 \nAnschliessend Apéro.\n\nKontakt: Pfr. Peter Wüthrich\n\nWeitere Infos:
  https://www.wfue.ch/veranstaltung/5593
SUMMARY:Familiengottesdienst mit Möglichkeit zur Taufe
PRIORITY:5
X-MICROSOFT-CDO-IMPORTANCE:1
CLASS:PUBLIC
END:VEVENT
END:VCALENDAR
