BEGIN:VCALENDAR
PRODID:-//kirchenweb.ch gmbh//veranstaltungsausgabe v2.0//DE
VERSION:2.0
METHOD:PUBLISH
BEGIN:VEVENT
DTSTART:20260329T073000Z
DTEND:20260329T083000Z
LOCATION:Davidkirche Flamatt\, Freiburgstr . 10\, 3175 Flamatt
TRANSP:OPAQUE
SEQUENCE:0
UID:5928-veranstaltung@wfue.ch
DTSTAMP:20260313T075258Z
DESCRIPTION:Mangels Anmeldungen wird dieser Gottesdienst nicht als Goldene
  Konfirmation\, sondern als Gottesdienst zu Palmsonntag gestaltet.\n\nDer
  Jodelchor Edelweiss wird die Feier mit wunderbaren Chorklänge
  mitgestalten!\n\nIm Anschluss erwartet sie ein Apéro.\n\nOrganistin:
  Darina Lüthi\n\nKontakt: Debora Meier\n\nWeitere Infos:
  https://www.wfue.ch/veranstaltung/5928
SUMMARY:Gottesdienst zu Palmsonntag mitgestaltet durch den Jodelchor
  Edelweiss Flamatt
PRIORITY:5
X-MICROSOFT-CDO-IMPORTANCE:1
CLASS:PUBLIC
END:VEVENT
END:VCALENDAR
